BEGIN:VCALENDAR
VERSION:2.0
PRODID:Events Booking
BEGIN:VEVENT
UID:69e74db133816
SUMMARY:JHV Apfeldorf
DESCRIPTION:
DTSTART:20250221T190000Z
DTSTAMP:20241211T172920Z
ORGANIZER;CN=Kreisfeuerwehrverband Landsberg:MAILTO:anmeldung@kfv-landsberg
 .net
END:VEVENT
END:VCALENDAR