BEGIN:VCALENDAR
VERSION:2.0
PRODID:Events Booking
BEGIN:VEVENT
UID:69e7e28237483
SUMMARY:JHF Winkl
DESCRIPTION:
DTSTART:20230119T230000Z
DTSTAMP:20221218T112905Z
ORGANIZER;CN=Kreisfeuerwehrverband Landsberg:MAILTO:anmeldung@kfv-landsberg
 .net
END:VEVENT
END:VCALENDAR