BEGIN:VCALENDAR
VERSION:2.0
PRODID:Events Booking
BEGIN:VEVENT
UID:69e7e2b955fc9
SUMMARY:JHF Scheuring\, St. Georgen\, Kaufering\, Egling
DESCRIPTION:
DTSTART:20230112T230000Z
DTSTAMP:20221218T112751Z
ORGANIZER;CN=Kreisfeuerwehrverband Landsberg:MAILTO:anmeldung@kfv-landsberg
 .net
END:VEVENT
END:VCALENDAR