BEGIN:VCALENDAR
VERSION:2.0
PRODID:Events Booking
BEGIN:VEVENT
UID:69e7cc1f8250e
SUMMARY:JHF Geltendorf
DESCRIPTION:
DTSTART:20230104T230000Z
DTSTAMP:20221218T112646Z
ORGANIZER;CN=Kreisfeuerwehrverband Landsberg:MAILTO:anmeldung@kfv-landsberg
 .net
END:VEVENT
END:VCALENDAR