BEGIN:VCALENDAR
VERSION:2.0
PRODID:Events Booking
BEGIN:VEVENT
UID:69e7cbcc87151
SUMMARY:JHF Eching
DESCRIPTION:
DTSTART:20230115T230000Z
DTSTAMP:20221218T112824Z
ORGANIZER;CN=Kreisfeuerwehrverband Landsberg:MAILTO:anmeldung@kfv-landsberg
 .net
END:VEVENT
END:VCALENDAR