BEGIN:VCALENDAR
VERSION:2.0
PRODID:Events Booking
BEGIN:VEVENT
UID:69e54baaab8ee
SUMMARY:IuK Treffen
DESCRIPTION:
DTSTART:20170315T180000Z
DTSTAMP:20260419T213954Z
ORGANIZER;CN=Kreisfeuerwehrverband Landsberg:MAILTO:anmeldung@kfv-landsberg
 .net
END:VEVENT
END:VCALENDAR