BEGIN:VCALENDAR
VERSION:2.0
PRODID:Events Booking
BEGIN:VEVENT
UID:69e9dc775ad9d
SUMMARY:Inspektion Sitzung
DESCRIPTION:
DTSTART:20220906T220000Z
DTSTAMP:20220706T154530Z
ORGANIZER;CN=Kreisfeuerwehrverband Landsberg:MAILTO:anmeldung@kfv-landsberg
 .net
END:VEVENT
END:VCALENDAR