BEGIN:VCALENDAR
VERSION:2.0
PRODID:Events Booking
BEGIN:VEVENT
UID:69e7cbca5d46b
SUMMARY:Herbstdv. JW LL
DESCRIPTION:Herbstdienstversammlung der Jugendwarte
 Werte Kameradin\, wer
 ter Kamerad\,hiermit lade ich euch zur Dienstversammlung derJugendwarte
 
 am Donnerstag\, den 29. November um 19.30 Uhr&nbsp\;im Lehrsaal / Feuerweh
 rhaus Landsberg am Lech&nbsp\;ein.Tagesordnung:
 1. Eröffnung und Begrü
 ßung2. Bericht von der Herbst-Bezirks-Kreis-Jugendwartversammlung3. Vorst
 ellung Nachfolgerin KJR Frau Maischberger4. Jahresbericht Jugend5. Termine
  20196. Sonstiges7. Wünsche und Anträge
 Um vollständiges Erscheinen w
 ird gebeten. Es kann auch einStellvertreter an der Versammlung teilnehmen.
  Sollte dies auchnicht möglich sein\, meldet Euch bitte bei mir ab.Mit ka
 meradschaftlichen GrüßenBenno Dierkes
LOCATION:Saarburgstraße 2\, 86899 Landsberg am Lech\, Deutschland
DTSTART:20181129T183000Z
DTSTAMP:20260421T191106Z
ORGANIZER;CN=Kreisfeuerwehrverband Landsberg:MAILTO:anmeldung@kfv-landsberg
 .net
GEO:48.04225;10.86754
X-APPLE-STRUCTURED-LOCATION;VALUE=URI;X-ADDRESS=Saarburgstraße 2\, 86899 L
 andsberg am Lech\, Deutschland;X-APPLE-RADIUS=72;X-TITLE=Feuerwehr Landsbe
 rg:48.04225;10.86754
END:VEVENT
END:VCALENDAR