BEGIN:VCALENDAR
VERSION:2.0
PRODID:Events Booking
BEGIN:VEVENT
UID:69e7fa1205269
SUMMARY:Herbst-Vernetzungstreffen der Kinderfeuerwehren Oberbayerns
DESCRIPTION:
DTSTART:20171124T180000Z
DTSTAMP:20260421T222834Z
ORGANIZER;CN=Kreisfeuerwehrverband Landsberg:MAILTO:anmeldung@kfv-landsberg
 .net
END:VEVENT
END:VCALENDAR