BEGIN:VCALENDAR
VERSION:2.0
PRODID:Events Booking
BEGIN:VEVENT
UID:69e7cd3e01b7d
SUMMARY:Frühjahrsdienstversammlung der Jugendwarte
DESCRIPTION:
DTSTART:20180322T183000Z
DTSTAMP:20260421T191718Z
ORGANIZER;CN=Kreisfeuerwehrverband Landsberg:MAILTO:anmeldung@kfv-landsberg
 .net
END:VEVENT
END:VCALENDAR