BEGIN:VCALENDAR
VERSION:2.0
PRODID:Events Booking
BEGIN:VEVENT
UID:69e9e5fce6c16
SUMMARY:FDV der KFWJ in Herrsching
DESCRIPTION:
DTSTART:20180303T080000Z
DTSTAMP:20260423T092724Z
ORGANIZER;CN=Kreisfeuerwehrverband Landsberg:MAILTO:anmeldung@kfv-landsberg
 .net
END:VEVENT
END:VCALENDAR