BEGIN:VCALENDAR
VERSION:2.0
PRODID:Events Booking
BEGIN:VEVENT
UID:69e77fa54fb64
SUMMARY:Familienfest LL 75 J. KJR LL
DESCRIPTION:
DTSTART:20230623T220000Z
DTSTAMP:20230510T155315Z
ORGANIZER;CN=Kreisfeuerwehrverband Landsberg:MAILTO:anmeldung@kfv-landsberg
 .net
END:VEVENT
END:VCALENDAR