BEGIN:VCALENDAR
VERSION:2.0
PRODID:Events Booking
BEGIN:VEVENT
UID:69e8604e06dc6
SUMMARY:Fahrzeugweihe Epfenhausen
DESCRIPTION:
DTSTART:20220715T220000Z
DTSTAMP:20220706T154053Z
ORGANIZER;CN=Kreisfeuerwehrverband Landsberg:MAILTO:anmeldung@kfv-landsberg
 .net
END:VEVENT
END:VCALENDAR