BEGIN:VCALENDAR
VERSION:2.0
PRODID:Events Booking
BEGIN:VEVENT
UID:69e88c07454cc
SUMMARY:Fahrzeugsegnung Eching
DESCRIPTION:
DTSTART:20240713T220000Z
DTSTAMP:20240708T075736Z
ORGANIZER;CN=Kreisfeuerwehrverband Landsberg:MAILTO:anmeldung@kfv-landsberg
 .net
END:VEVENT
END:VCALENDAR