BEGIN:VCALENDAR
VERSION:2.0
PRODID:Events Booking
BEGIN:VEVENT
UID:69eca66889e97
SUMMARY:Drehleitersegnung FF Landsberg
DESCRIPTION:
DTSTART:20230512T220000Z
DTSTAMP:20230510T154536Z
ORGANIZER;CN=Kreisfeuerwehrverband Landsberg:MAILTO:anmeldung@kfv-landsberg
 .net
END:VEVENT
END:VCALENDAR