BEGIN:VCALENDAR
VERSION:2.0
PRODID:Events Booking
BEGIN:VEVENT
UID:69e80a348b37a
SUMMARY:DLK Weihe LL
DESCRIPTION:
DTSTART:20220930T220000Z
DTSTAMP:20220706T154610Z
ORGANIZER;CN=Kreisfeuerwehrverband Landsberg:MAILTO:anmeldung@kfv-landsberg
 .net
END:VEVENT
END:VCALENDAR