BEGIN:VCALENDAR
VERSION:2.0
PRODID:Events Booking
BEGIN:VEVENT
UID:69e7a60ec33c0
SUMMARY:CTIF Landesentscheid Altenerding
DESCRIPTION:
DTSTART:20230609T220000Z
DTSTAMP:20230510T155102Z
ORGANIZER;CN=Kreisfeuerwehrverband Landsberg:MAILTO:anmeldung@kfv-landsberg
 .net
END:VEVENT
END:VCALENDAR