BEGIN:VCALENDAR
VERSION:2.0
PRODID:Events Booking
BEGIN:VEVENT
UID:69e796aec0b5c
SUMMARY:Bezirksentscheid CTIF in Moosburg
DESCRIPTION:
DTSTART:20230519T220000Z
DTSTAMP:20230510T154757Z
ORGANIZER;CN=Kreisfeuerwehrverband Landsberg:MAILTO:anmeldung@kfv-landsberg
 .net
END:VEVENT
END:VCALENDAR