BEGIN:VCALENDAR
VERSION:2.0
PRODID:Events Booking
BEGIN:VEVENT
UID:69e78e3a575c0
SUMMARY:BE Treffen Kat zentrum DAH
DESCRIPTION:
DTSTART:20230519T220000Z
DTSTAMP:20230510T154730Z
ORGANIZER;CN=Kreisfeuerwehrverband Landsberg:MAILTO:anmeldung@kfv-landsberg
 .net
END:VEVENT
END:VCALENDAR