BEGIN:VCALENDAR
VERSION:2.0
PRODID:Events Booking
BEGIN:VEVENT
UID:69e7e3756d866
SUMMARY:Bayrische Jugendleistungsprüfung  
DESCRIPTION:Abnahme der Bayrischen Jugendleistungsprüfung in Pflugdorf/ St
 adl
LOCATION:Rathausstraße 37\, 86946 Vilgertshofen\, Deutschland
DTSTART:20170721T220000Z
DTSTAMP:20260421T205205Z
ORGANIZER;CN=Kreisfeuerwehrverband Landsberg:MAILTO:anmeldung@kfv-landsberg
 .net
GEO:47.965652;10.913397
X-APPLE-STRUCTURED-LOCATION;VALUE=URI;X-ADDRESS=Rathausstraße 37\, 86946 V
 ilgertshofen\, Deutschland;X-APPLE-RADIUS=72;X-TITLE= Feuerwehr Pflugdorf-
  Stadl:47.965652;10.913397
END:VEVENT
END:VCALENDAR