BEGIN:VCALENDAR
VERSION:2.0
PRODID:Events Booking
BEGIN:VEVENT
UID:69e8cf85e2c84
SUMMARY:Atemschutzstrecke März 2024
DESCRIPTION:Bitte beachten: Die Atemschutzstrecke ist im Ausbildungszentrum
  in der Reischer Straße 1\, 86932 Pürgen ist in Betrieb.&nbsp\;
 Fürs 
 Navi:&nbsp\;https://goo.gl/maps/ud54Q6mH564AMaH76
 Kurzfristige An oder A
 bmeldung am Abend:&nbsp\;08196 3189944
DTSTART:20240305T180000Z
DTEND:20240305T200000Z
DTSTAMP:20260422T133917Z
ORGANIZER;CN=Kreisfeuerwehrverband Landsberg:MAILTO:anmeldung@kfv-landsberg
 .net
END:VEVENT
END:VCALENDAR