BEGIN:VCALENDAR
VERSION:2.0
PRODID:Events Booking
BEGIN:VEVENT
UID:69e74fce2b05f
SUMMARY:Atemschutzstrecke Juli 2023
DESCRIPTION:Zum Tag der offenen Tür im FAZ bieten wir einen spezial Streck
 en Termin an. Wer lust hat sich bei ein bisschen Publikum auszupoweren ist
  herzlich eingeladen.&nbsp\;
 Fürs Navi:&nbsp\;https://goo.gl/maps/ud54Q
 6mH564AMaH76
 Kurzfristige An oder Abmeldung am Abend: 08191 3314001
DTSTART:20230709T090000Z
DTEND:20230709T140000Z
DTSTAMP:20260421T102206Z
ORGANIZER;CN=Kreisfeuerwehrverband Landsberg:MAILTO:anmeldung@kfv-landsberg
 .net
END:VEVENT
END:VCALENDAR