BEGIN:VCALENDAR
VERSION:2.0
PRODID:Events Booking
BEGIN:VEVENT
UID:69e6016d5e0d6
SUMMARY:Abschnittsversammlung AS 3 in Pflugdorf-Stadl
DESCRIPTION:
DTSTART:20240325T230000Z
DTSTAMP:20240213T192802Z
ORGANIZER;CN=Kreisfeuerwehrverband Landsberg:MAILTO:anmeldung@kfv-landsberg
 .net
END:VEVENT
END:VCALENDAR