BEGIN:VCALENDAR
VERSION:2.0
PRODID:Events Booking
BEGIN:VEVENT
UID:69e80d204c8e3
SUMMARY:Abnahme Jugendwissentest
DESCRIPTION:
LOCATION:Mesnerweg\, 86946 Vilgertshofen\, Deutschland
DTSTART:20170120T183000Z
DTSTAMP:20260421T234952Z
ORGANIZER;CN=Kreisfeuerwehrverband Landsberg:MAILTO:anmeldung@kfv-landsberg
 .net
GEO:47.957844;10.877352
X-APPLE-STRUCTURED-LOCATION;VALUE=URI;X-ADDRESS=Mesnerweg\, 86946 Vilgertsh
 ofen\, Deutschland;X-APPLE-RADIUS=72;X-TITLE=Feuerwehr Mundraching:47.9578
 44;10.877352
END:VEVENT
END:VCALENDAR