BEGIN:VCALENDAR
VERSION:2.0
PRODID:Events Booking
BEGIN:VEVENT
UID:69e87a302e855
SUMMARY:Abnahme Gasfackel  
DESCRIPTION:
DTSTART:20220705T220000Z
DTSTAMP:20220608T154251Z
ORGANIZER;CN=Kreisfeuerwehrverband Landsberg:MAILTO:anmeldung@kfv-landsberg
 .net
END:VEVENT
END:VCALENDAR