BEGIN:VCALENDAR
VERSION:2.0
PRODID:Events Booking
BEGIN:VEVENT
UID:69eb696c5e764
SUMMARY:Abnahme BMA Denklingen
DESCRIPTION:
DTSTART:20220623T220000Z
DTSTAMP:20220608T153726Z
ORGANIZER;CN=Kreisfeuerwehrverband Landsberg:MAILTO:anmeldung@kfv-landsberg
 .net
END:VEVENT
END:VCALENDAR