BEGIN:VCALENDAR
VERSION:2.0
PRODID:Events Booking
BEGIN:VEVENT
UID:69e7e36a71774
SUMMARY:Abnahme BayJLsp / Jugendtag
DESCRIPTION:
LOCATION:Johannisstraße 24\, 86911 Dießen am Ammersee\, Deutschland
DTSTART:20180720T220000Z
DTSTAMP:20260421T205154Z
ORGANIZER;CN=Kreisfeuerwehrverband Landsberg:MAILTO:anmeldung@kfv-landsberg
 .net
GEO:47.946196;11.104104
X-APPLE-STRUCTURED-LOCATION;VALUE=URI;X-ADDRESS=Johannisstraße 24\, 86911 
 Dießen am Ammersee\, Deutschland;X-APPLE-RADIUS=72;X-TITLE=Feuerwehr Die
 ßen:47.946196;11.104104
END:VEVENT
END:VCALENDAR