BEGIN:VCALENDAR
VERSION:2.0
PRODID:Events Booking
BEGIN:VEVENT
UID:69e87903c8dc4
SUMMARY:24h Jugenddienst Feuerwehr Landsberg
DESCRIPTION:
DTSTART:20220715T220000Z
DTSTAMP:20220706T154025Z
ORGANIZER;CN=Kreisfeuerwehrverband Landsberg:MAILTO:anmeldung@kfv-landsberg
 .net
END:VEVENT
END:VCALENDAR