BEGIN:VCALENDAR
VERSION:2.0
PRODID:Events Booking
BEGIN:VEVENT
UID:69e78ddc0089d
SUMMARY:150 Jahre FF Prittriching
DESCRIPTION:
DTSTART:20230520T220000Z
DTSTAMP:20230510T154902Z
ORGANIZER;CN=Kreisfeuerwehrverband Landsberg:MAILTO:anmeldung@kfv-landsberg
 .net
END:VEVENT
END:VCALENDAR