BEGIN:VCALENDAR
VERSION:2.0
PRODID:Events Booking
BEGIN:VEVENT
UID:69e7a5ffb2826
SUMMARY:150 Jahre FF Apfeldorf
DESCRIPTION:
DTSTART:20230520T220000Z
DTSTAMP:20230510T154841Z
ORGANIZER;CN=Kreisfeuerwehrverband Landsberg:MAILTO:anmeldung@kfv-landsberg
 .net
END:VEVENT
END:VCALENDAR