BEGIN:VCALENDAR
VERSION:2.0
PRODID:Events Booking
BEGIN:VEVENT
UID:69e76305e2f95
SUMMARY:MTA - Basis AS2 23/10
DESCRIPTION:
LOCATION:Schulstraße 2\, 86925 Fuchstal\, Deutschland
DTSTART:20230726T220000Z
DTEND:20230726T220000Z
DTSTAMP:20230719T140320Z
ORGANIZER;CN=Kreisfeuerwehrverband Landsberg:MAILTO:anmeldung@kfv-landsberg
 .net
GEO:47.9366;10.82585
X-APPLE-STRUCTURED-LOCATION;VALUE=URI;X-ADDRESS=Schulstraße 2\, 86925 Fuch
 stal\, Deutschland;X-APPLE-RADIUS=72;X-TITLE=Feuerwehr Leeder:47.9366;10.8
 2585
END:VEVENT
END:VCALENDAR