BEGIN:VCALENDAR
VERSION:2.0
PRODID:Events Booking
BEGIN:VEVENT
UID:69e74d83a6c20
SUMMARY:MTA - Basis AS1 23/08
DESCRIPTION:
LOCATION:Hauptstraße 42   86899 Landsberg am Lech / Erpfting 
DTSTART:20230703T220000Z
DTEND:20230703T220000Z
DTSTAMP:20230621T145926Z
ORGANIZER;CN=Kreisfeuerwehrverband Landsberg:MAILTO:anmeldung@kfv-landsberg
 .net
GEO:48.02147;0
X-APPLE-STRUCTURED-LOCATION;VALUE=URI;X-ADDRESS=Hauptstraße 42   86899 Lan
 dsberg am Lech / Erpfting ;X-APPLE-RADIUS=72;X-TITLE=Feuerwehrhaus:48.0214
 7;0
END:VEVENT
END:VCALENDAR