BEGIN:VCALENDAR
VERSION:2.0
PRODID:Events Booking
BEGIN:VEVENT
UID:69e7a39d42a72
SUMMARY:MTA - Basis AS 8 23/03
DESCRIPTION:
LOCATION:86931 Prittriching Westring 1
DTSTART:20230309T230000Z
DTEND:20230309T230000Z
DTSTAMP:20230117T145633Z
ORGANIZER;CN=Kreisfeuerwehrverband Landsberg:MAILTO:anmeldung@kfv-landsberg
 .net
GEO:48.20689;10.92487
X-APPLE-STRUCTURED-LOCATION;VALUE=URI;X-ADDRESS=86931 Prittriching Westring
  1;X-APPLE-RADIUS=72;X-TITLE=Feuerwehr Prittriching:48.20689;10.92487
END:VEVENT
END:VCALENDAR