BEGIN:VCALENDAR
VERSION:2.0
PRODID:Events Booking
BEGIN:VEVENT
UID:69e7780a2b2a2
SUMMARY:MTA - Basis
DESCRIPTION:
LOCATION:Florianstraße 1\, 86916 Kaufering\, Deutschland
DTSTART:20230824T220000Z
DTEND:20230824T220000Z
DTSTAMP:20231005T161123Z
ORGANIZER;CN=Kreisfeuerwehrverband Landsberg:MAILTO:anmeldung@kfv-landsberg
 .net
GEO:48.08488;10.8587
X-APPLE-STRUCTURED-LOCATION;VALUE=URI;X-ADDRESS=Florianstraße 1\, 86916 Ka
 ufering\, Deutschland;X-APPLE-RADIUS=72;X-TITLE=Feuerwehr Kaufering:48.084
 88;10.8587
END:VEVENT
END:VCALENDAR