BEGIN:VCALENDAR
VERSION:2.0
PRODID:Events Booking
BEGIN:VEVENT
UID:69e5ff17b4573
SUMMARY:MTA Basis 24/06 AS 4
DESCRIPTION:
LOCATION:Maria-Theresia-Straße 12A\, 86919 Utting am Ammersee\, Deutschlan
 d
DTSTART:20240718T170000Z
DTEND:20240718T180000Z
DTSTAMP:20240706T043129Z
ORGANIZER;CN=Kreisfeuerwehrverband Landsberg:MAILTO:anmeldung@kfv-landsberg
 .net
GEO:48.02382;11.09267
X-APPLE-STRUCTURED-LOCATION;VALUE=URI;X-ADDRESS=Maria-Theresia-Straße 12A\
 , 86919 Utting am Ammersee\, Deutschland;X-APPLE-RADIUS=72;X-TITLE=Feuerwe
 hr Utting:48.02382;11.09267
END:VEVENT
END:VCALENDAR