BEGIN:VCALENDAR
VERSION:2.0
PRODID:Events Booking
BEGIN:VEVENT
UID:69e7babcf0169
SUMMARY:MTA - Basis 23/07 AS 4
DESCRIPTION:
LOCATION:Johannisstraße 24\, 86911 Dießen am Ammersee\, Deutschland
DTSTART:20230529T220000Z
DTEND:20230529T220000Z
DTSTAMP:20230522T125008Z
ORGANIZER;CN=Kreisfeuerwehrverband Landsberg:MAILTO:anmeldung@kfv-landsberg
 .net
GEO:47.946196;11.104104
X-APPLE-STRUCTURED-LOCATION;VALUE=URI;X-ADDRESS=Johannisstraße 24\, 86911 
 Dießen am Ammersee\, Deutschland;X-APPLE-RADIUS=72;X-TITLE=Feuerwehr Die
 ßen:47.946196;11.104104
END:VEVENT
END:VCALENDAR