BEGIN:VCALENDAR
VERSION:2.0
PRODID:Events Booking
BEGIN:VEVENT
UID:69e7b77c59701
SUMMARY:MTA - Basis 23/02 Erpfting
DESCRIPTION:Prüfungsort: Feuerwehrgerätehaus  - Erpfting
 Uhrzeit: 09:00
LOCATION:Hauptstraße 42   86899 Landsberg am Lech / Erpfting 
DTSTART:20230203T230000Z
DTEND:20230203T230000Z
DTSTAMP:20230112T160009Z
ORGANIZER;CN=Kreisfeuerwehrverband Landsberg:MAILTO:anmeldung@kfv-landsberg
 .net
GEO:48.02147;0
X-APPLE-STRUCTURED-LOCATION;VALUE=URI;X-ADDRESS=Hauptstraße 42   86899 Lan
 dsberg am Lech / Erpfting ;X-APPLE-RADIUS=72;X-TITLE=Feuerwehrhaus:48.0214
 7;0
END:VEVENT
END:VCALENDAR