BEGIN:VCALENDAR
VERSION:2.0
PRODID:Events Booking
BEGIN:VEVENT
UID:69e7e28590811
SUMMARY:MTA - Basis 22/09
DESCRIPTION:
LOCATION:Mesnerweg\, 86946 Vilgertshofen\, Deutschland
DTSTART:20221204T230000Z
DTEND:20221204T230000Z
DTSTAMP:20221116T161512Z
ORGANIZER;CN=Kreisfeuerwehrverband Landsberg:MAILTO:anmeldung@kfv-landsberg
 .net
GEO:47.957844;10.877352
X-APPLE-STRUCTURED-LOCATION;VALUE=URI;X-ADDRESS=Mesnerweg\, 86946 Vilgertsh
 ofen\, Deutschland;X-APPLE-RADIUS=72;X-TITLE=Feuerwehr Mundraching:47.9578
 44;10.877352
END:VEVENT
END:VCALENDAR