BEGIN:VCALENDAR
VERSION:2.0
PRODID:Events Booking
BEGIN:VEVENT
UID:69e81e245984c
SUMMARY:MTA - Basis 22/06 Finning AS 4/5
DESCRIPTION:
LOCATION:Mühlstraße\, Finning\, 86923 Bayern\, Deutschland
DTSTART:20220916T220000Z
DTEND:20220916T220000Z
DTSTAMP:20220901T140351Z
ORGANIZER;CN=Kreisfeuerwehrverband Landsberg:MAILTO:anmeldung@kfv-landsberg
 .net
GEO:48.021032;11.013527
X-APPLE-STRUCTURED-LOCATION;VALUE=URI;X-ADDRESS=Mühlstraße\, Finning\, 86
 923 Bayern\, Deutschland;X-APPLE-RADIUS=72;X-TITLE=Feuerwehr Finning:48.02
 1032;11.013527
END:VEVENT
END:VCALENDAR