BEGIN:VCALENDAR
VERSION:2.0
PRODID:Events Booking
BEGIN:VEVENT
UID:69e86040a8ea8
SUMMARY:MTA - Basis 22/ 04 Denklingen AS 2
DESCRIPTION:
LOCATION:Hauptstraße 9\, 86920 Denklingen\, Deutschland
DTSTART:20220701T220000Z
DTEND:20220701T220000Z
DTSTAMP:20220602T124439Z
ORGANIZER;CN=Kreisfeuerwehrverband Landsberg:MAILTO:anmeldung@kfv-landsberg
 .net
GEO:47.914713;10.850976
X-APPLE-STRUCTURED-LOCATION;VALUE=URI;X-ADDRESS=Hauptstraße 9\, 86920 Denk
 lingen\, Deutschland;X-APPLE-RADIUS=72;X-TITLE=Feuerwehr Denklingen:47.914
 713;10.850976
END:VEVENT
END:VCALENDAR