BEGIN:VCALENDAR
VERSION:2.0
PRODID:Events Booking
BEGIN:VEVENT
UID:69e809b5d89db
SUMMARY:MTA - Basis   FFw-Windach 22.10.
DESCRIPTION:Belegt
DTSTART:20221021T220000Z
DTEND:20221021T220000Z
DTSTAMP:20221010T130904Z
ORGANIZER;CN=Kreisfeuerwehrverband Landsberg:MAILTO:anmeldung@kfv-landsberg
 .net
END:VEVENT
END:VCALENDAR