BEGIN:VCALENDAR
VERSION:2.0
PRODID:Events Booking
BEGIN:VEVENT
UID:69e7388d8d018
SUMMARY:MTA Basis 02/25 AS 4
DESCRIPTION:
LOCATION:Schondorf am Ammersee\, 86938 Bayern\, Deutschland
DTSTART:20250211T183000Z
DTEND:20250211T200000Z
DTSTAMP:20250201T073835Z
ORGANIZER;CN=Kreisfeuerwehrverband Landsberg:MAILTO:anmeldung@kfv-landsberg
 .net
GEO:48.054493;11.102004
X-APPLE-STRUCTURED-LOCATION;VALUE=URI;X-ADDRESS=Schondorf am Ammersee\, 869
 38 Bayern\, Deutschland;X-APPLE-RADIUS=72;X-TITLE=Feuerwehr Schondorf:48.0
 54493;11.102004
END:VEVENT
END:VCALENDAR