BEGIN:VCALENDAR
VERSION:2.0
PRODID:Events Booking
BEGIN:VEVENT
UID:69e5eb72c5e41
SUMMARY:MTA - Abschluss 24/02
DESCRIPTION:Mitzubringen am ersten Tag: Zeugnis MTA- Basis und Urkunde Leis
 tungsprüfung - Pro FFW 6 Teilnehmer
 
LOCATION:Feuerwehrausbildungszentrum\, 1\, Reischer Straße\, Pürgen\, Lan
 dkreis Landsberg am Lech\, Bayern\, 86932\, Deutschland
DTSTART:20240408T220000Z
DTEND:20240412T220000Z
DTSTAMP:20231023T145308Z
ORGANIZER;CN=Kreisfeuerwehrverband Landsberg:MAILTO:anmeldung@kfv-landsberg
 .net
GEO:48.03318;10.91967
X-APPLE-STRUCTURED-LOCATION;VALUE=URI;X-ADDRESS=Feuerwehrausbildungszentrum
 \, 1\, Reischer Straße\, Pürgen\, Landkreis Landsberg am Lech\, Bayern\,
  86932\, Deutschland;X-APPLE-RADIUS=72;X-TITLE=FAZ - Feuerwehr Ausbildungs
 zentrum:48.03318;10.91967
END:VEVENT
END:VCALENDAR