BEGIN:VCALENDAR
VERSION:2.0
PRODID:Events Booking
BEGIN:VEVENT
UID:69e84974b648f
SUMMARY:MTA - Abschluss 22/03
DESCRIPTION:Pro Feuerwehr 4 Teilnehmer
LOCATION:Reischer Str.\, Pürgen\, 86932 Bayern\, Deutschland
DTSTART:20220725T220000Z
DTEND:20220729T220000Z
DTSTAMP:20220609T044153Z
ORGANIZER;CN=Kreisfeuerwehrverband Landsberg:MAILTO:anmeldung@kfv-landsberg
 .net
GEO:48.033613;10.919636
X-APPLE-STRUCTURED-LOCATION;VALUE=URI;X-ADDRESS=Reischer Str.\, Pürgen\, 8
 6932 Bayern\, Deutschland;X-APPLE-RADIUS=72;X-TITLE=Feuerwehr Ausbildungsz
 entrum:48.033613;10.919636
END:VEVENT
END:VCALENDAR