BEGIN:VCALENDAR
VERSION:2.0
PRODID:Events Booking
BEGIN:VEVENT
UID:69ea21dac2e11
SUMMARY:Motorsägenführer 22/03
DESCRIPTION:Lehrgangsvorraussetzung: MTA - Basis + Handwerklich begabt\, Vo
 rkenntnisse mit Motorsägen sind erforderlich.
 Pro Feuerwehr 2 Teilnehme
 r
LOCATION:Feuerwehrausbildungszentrum\, 1\, Reischer Straße\, Pürgen\, Lan
 dkreis Landsberg am Lech\, Bayern\, 86932\, Deutschland
DTSTART:20221030T230000Z
DTEND:20221111T230000Z
DTSTAMP:20211113T103022Z
ORGANIZER;CN=Kreisfeuerwehrverband Landsberg:MAILTO:anmeldung@kfv-landsberg
 .net
GEO:48.03318;10.91967
X-APPLE-STRUCTURED-LOCATION;VALUE=URI;X-ADDRESS=Feuerwehrausbildungszentrum
 \, 1\, Reischer Straße\, Pürgen\, Landkreis Landsberg am Lech\, Bayern\,
  86932\, Deutschland;X-APPLE-RADIUS=72;X-TITLE=FAZ - Feuerwehr Ausbildungs
 zentrum:48.03318;10.91967
END:VEVENT
END:VCALENDAR