BEGIN:VCALENDAR
VERSION:2.0
PRODID:Events Booking
BEGIN:VEVENT
UID:69e8a6a158d1c
SUMMARY:Motorsägen / Auffrischung 23/01 Abgesagt
DESCRIPTION:Lehrgangsvoraussetzung: Lehrgangsbescheinigung Motorsägenlehrg
 ang 
 pro Feuerwehr 2 Teilnehmer  Abgesagt
LOCATION:Feuerwehrausbildungszentrum\, 1\, Reischer Straße\, Pürgen\, Lan
 dkreis Landsberg am Lech\, Bayern\, 86932\, Deutschland
DTSTART:20230310T230000Z
DTEND:20230310T230000Z
DTSTAMP:20221103T190307Z
ORGANIZER;CN=Kreisfeuerwehrverband Landsberg:MAILTO:anmeldung@kfv-landsberg
 .net
GEO:48.03318;10.91967
X-APPLE-STRUCTURED-LOCATION;VALUE=URI;X-ADDRESS=Feuerwehrausbildungszentrum
 \, 1\, Reischer Straße\, Pürgen\, Landkreis Landsberg am Lech\, Bayern\,
  86932\, Deutschland;X-APPLE-RADIUS=72;X-TITLE=FAZ - Feuerwehr Ausbildungs
 zentrum:48.03318;10.91967
END:VEVENT
END:VCALENDAR