BEGIN:VCALENDAR
VERSION:2.0
PRODID:Events Booking
BEGIN:VEVENT
UID:69e7a29bacfea
SUMMARY:Maschinisten 23/01
DESCRIPTION:pro Feuerwehr 4 Teilnehmer
DTSTART:20230308T230000Z
DTEND:20230324T230000Z
DTSTAMP:20221103T185416Z
ORGANIZER;CN=Kreisfeuerwehrverband Landsberg:MAILTO:anmeldung@kfv-landsberg
 .net
END:VEVENT
END:VCALENDAR