BEGIN:VCALENDAR
VERSION:2.0
PRODID:Events Booking
BEGIN:VEVENT
UID:69eb9eda7836f
SUMMARY:Maschinist 20/1
DESCRIPTION:Lehrgangsvorraussetzung: MTA - Basis
LOCATION:Maria-Theresia-Straße 12A\, 86919 Utting am Ammersee\, Deutschlan
 d
DTSTART:20200114T230000Z
DTEND:20200131T230000Z
DTSTAMP:20260424T164826Z
ORGANIZER;CN=Kreisfeuerwehrverband Landsberg:MAILTO:anmeldung@kfv-landsberg
 .net
GEO:48.02382;11.09267
X-APPLE-STRUCTURED-LOCATION;VALUE=URI;X-ADDRESS=Maria-Theresia-Straße 12A\
 , 86919 Utting am Ammersee\, Deutschland;X-APPLE-RADIUS=72;X-TITLE=Feuerwe
 hr Utting:48.02382;11.09267
END:VEVENT
END:VCALENDAR