BEGIN:VCALENDAR
VERSION:2.0
PRODID:Events Booking
BEGIN:VEVENT
UID:69e73b959ef1d
SUMMARY:Gasbetriebene Brandsimulationsanlage (BSA) 2021 / Freitag
DESCRIPTION:
LOCATION:Saarburgstraße 2\, 86899 Landsberg am Lech\, Deutschland
DTSTART:20210604T080000Z
DTEND:20210604T170000Z
DTSTAMP:20260421T085549Z
ORGANIZER;CN=Kreisfeuerwehrverband Landsberg:MAILTO:anmeldung@kfv-landsberg
 .net
GEO:48.04225;10.86754
X-APPLE-STRUCTURED-LOCATION;VALUE=URI;X-ADDRESS=Saarburgstraße 2\, 86899 L
 andsberg am Lech\, Deutschland;X-APPLE-RADIUS=72;X-TITLE=Feuerwehr Landsbe
 rg:48.04225;10.86754
END:VEVENT
END:VCALENDAR