BEGIN:VCALENDAR
VERSION:2.0
PRODID:Events Booking
BEGIN:VEVENT
UID:69e73b8f97187
SUMMARY:Gasbetriebene Brandsimulationsanlage (BSA) 2021 / BwF Samstag
DESCRIPTION:
LOCATION:Siegfried-Meister-Str. 10\, 86899 Landsberg\, Landkreis Landsberg 
 am Lech\, Bayern\, 86859\, Deutschland
DTSTART:20211023T070000Z
DTEND:20211023T160000Z
DTSTAMP:20210925T075735Z
ORGANIZER;CN=Kreisfeuerwehrverband Landsberg:MAILTO:anmeldung@kfv-landsberg
 .net
GEO:48.061016;10.827331
X-APPLE-STRUCTURED-LOCATION;VALUE=URI;X-ADDRESS=Siegfried-Meister-Str. 10\,
  86899 Landsberg\, Landkreis Landsberg am Lech\, Bayern\, 86859\, Deutschl
 and;X-APPLE-RADIUS=72;X-TITLE=Welfenkaserne:48.061016;10.827331
END:VEVENT
END:VCALENDAR